BEGIN:VCALENDAR
VERSION:2.0
PRODID:-//ChamberMaster//Event Calendar 2.0//EN
METHOD:PUBLISH
X-PUBLISHED-TTL:P3D
REFRESH-INTERVAL:P3D
CALSCALE:GREGORIAN
BEGIN:VEVENT
DTSTART:20250208T190000Z
DTEND:20250208T230000Z
X-MICROSOFT-CDO-ALLDAYEVENT:FALSE
SUMMARY:Soul Care - A day for Ladies to Unwind
DESCRIPTION:Ladies! Treat yourself to an afternoon of supportive sisterhood and unwind! "Soul Care" will be February 8\, 2025\, from 1:00 - 5:00 pm. Call 972-617-9100.\n\n\n\nThe program will feature Ricardo Miller Sr.\, dynamic motivational speaker\, certified Life Coach and author of "Effective Living: Creating a Life You Don't Need to Take a Vacation From". Also enjoy Chair Yoga and snacks. All women in the community are welcome to join us.\n\n\n\nLocation:\n\nFirst United Methodist Church Red Oak\n\n600 Daubitz Drive\n\nRed Oak\, TX 75154
X-ALT-DESC;FMTTYPE=text/html:Ladies! Treat yourself to an afternoon of supportive sisterhood and unwind! &quot\;Soul Care&quot\; will be February 8\, 2025\, from 1:00 - 5:00 pm.&nbsp\;Call 972-617-9100.<br />\n<br />\nThe program will feature Ricardo Miller Sr.\, dynamic motivational speaker\, certified Life Coach and author of &quot\;Effective Living: Creating a Life You Don&#39\;t Need to Take a Vacation From&quot\;. Also enjoy Chair Yoga and snacks. All women in the community are welcome to join us.<br />\n<br />\nLocation:<br />\nFirst United Methodist Church Red Oak<br />\n600 Daubitz Drive<br />\nRed Oak\, TX 75154
LOCATION:
UID:e.420.8369
SEQUENCE:3
DTSTAMP:20260421T105649Z
URL:https://business.redoakareachamber.org/events/details/soul-care-a-day-for-ladies-to-unwind-8369
END:VEVENT

END:VCALENDAR
