BEGIN:VCALENDAR
VERSION:2.0
PRODID:-//ChamberMaster//Event Calendar 2.0//EN
METHOD:PUBLISH
X-PUBLISHED-TTL:P3D
REFRESH-INTERVAL:P3D
CALSCALE:GREGORIAN
BEGIN:VEVENT
DTSTART;VALUE=DATE:20250201
DTEND;VALUE=DATE:20250301
TRANSP:TRANSPARENT
X-MICROSOFT-CDO-ALLDAYEVENT:TRUE
SUMMARY:RO Library February Calendar
DESCRIPTION:Red Oak Public Library February Calendar.
X-ALT-DESC;FMTTYPE=text/html:Red Oak Public Library February Calendar.
LOCATION:
UID:e.420.8377
SEQUENCE:3
DTSTAMP:20260421T105108Z
URL:https://business.redoakareachamber.org/events/details/ro-library-february-calendar-8377
END:VEVENT

END:VCALENDAR
