BEGIN:VCALENDAR
VERSION:2.0
PRODID:-//ChamberMaster//Event Calendar 2.0//EN
METHOD:PUBLISH
X-PUBLISHED-TTL:P3D
REFRESH-INTERVAL:P3D
CALSCALE:GREGORIAN
BEGIN:VEVENT
DTSTART:20260426T220000Z
DTEND:20260427T000000Z
X-MICROSOFT-CDO-ALLDAYEVENT:FALSE
SUMMARY:RIBBON CUTTING - The Study Church
DESCRIPTION:PLEASE JOIN us on Sunday\, April 26th at 5pm for the Ribbon Cutting of one our AMAZING MEMBERS\, The Study Church!\n\nWe look forward to seeing you & welcoming this amazing Member to our WONDERFUL Community!
X-ALT-DESC;FMTTYPE=text/html:<div class="xdj266r x14z9mp xat24cr x1lziwak x1vvkbs" color:="" font-size:="" segoe="" style="margin-inline: 0px\; overflow-wrap: break-word\; margin-bottom: 0px\; margin-top: 0px\; font-family: " ui="">PLEASE JOIN us on Sunday\, April 26th at 5pm for the Ribbon Cutting of one our AMAZING MEMBERS\, The Study Church!</div>\n\n<div class="x14z9mp xat24cr x1lziwak x1vvkbs xtlvy1s" color:="" font-size:="" segoe="" style="margin-inline: 0px\; overflow-wrap: break-word\; margin-bottom: 0px\; margin-top: 0.5em\; font-family: " ui="">We look forward to seeing you &amp\; welcoming this amazing Member to our WONDERFUL Community!</div>\n
LOCATION:La Quinta Inn 508 N. Interstate 35 Service Rd. Red Oak\, TX 75154
UID:e.420.9688
SEQUENCE:3
DTSTAMP:20260424T190801Z
URL:https://business.redoakareachamber.org/events/details/ribbon-cutting-the-study-church-9688
END:VEVENT

END:VCALENDAR
