BEGIN:VCALENDAR
VERSION:2.0
PRODID:-//ChamberMaster//Event Calendar 2.0//EN
METHOD:PUBLISH
X-PUBLISHED-TTL:P3D
REFRESH-INTERVAL:P3D
CALSCALE:GREGORIAN
BEGIN:VEVENT
DTSTART;VALUE=DATE:20261010
DTEND;VALUE=DATE:20261011
TRANSP:TRANSPARENT
X-MICROSOFT-CDO-ALLDAYEVENT:TRUE
SUMMARY:Red Oak "TRASH OFF"
DESCRIPTION:Community Waste is holding their ANNUAL City of Red Oak TRASH OFF on Saturday\, October 10th. More information to follow
X-ALT-DESC;FMTTYPE=text/html:Community Waste is holding their ANNUAL City of Red Oak TRASH OFF on Saturday\, October 10th. More information to follow&nbsp\;&nbsp\;&nbsp\;&nbsp\;&nbsp\;&nbsp\;&nbsp\;&nbsp\;&nbsp\;&nbsp\;&nbsp\;&nbsp\;&nbsp\;&nbsp\;&nbsp\;&nbsp\;&nbsp\;&nbsp\;&nbsp\;&nbsp\;
LOCATION:TBD
UID:e.420.9679
SEQUENCE:3
DTSTAMP:20260424T155339Z
URL:https://business.redoakareachamber.org/events/details/red-oak-trash-off-9679
END:VEVENT

END:VCALENDAR
