BEGIN:VCALENDAR
VERSION:2.0
PRODID:-//ChamberMaster//Event Calendar 2.0//EN
METHOD:PUBLISH
X-PUBLISHED-TTL:P3D
REFRESH-INTERVAL:P3D
CALSCALE:GREGORIAN
BEGIN:VEVENT
DTSTART:20250227T200000Z
DTEND:20250227T210000Z
X-MICROSOFT-CDO-ALLDAYEVENT:FALSE
SUMMARY:Protecting Our Seniors Educational Workshop
DESCRIPTION:Join Arabella of Red Oak for Protecting Our Seniors Educational Workshop!\n\nWorkshops will be the fourth Thursday of the month from 2:00 - 3:00 pm.\n\n	Thursday\, February 27 - Critical Do's and Don'ts when Planning for Retirement\n	Thursday\, March 27 - Fraud Prevention - Protecting Your Seniors from Online and Phone Scams
X-ALT-DESC;FMTTYPE=text/html:<span style="color: rgb(51\, 51\, 51)\; font-family: sans-serif\, Arial\, Verdana\, &quot\;Trebuchet MS&quot\;\; font-size: 13px\; background-color: rgb(255\, 255\, 255)\;">Join Arabella of Red Oak for Protecting Our Seniors Educational Workshop!</span><br style="color: rgb(51\, 51\, 51)\; font-family: sans-serif\, Arial\, Verdana\, &quot\;Trebuchet MS&quot\;\; font-size: 13px\;" />\n<span style="color: rgb(51\, 51\, 51)\; font-family: sans-serif\, Arial\, Verdana\, &quot\;Trebuchet MS&quot\;\; font-size: 13px\; background-color: rgb(255\, 255\, 255)\;">Workshops will be the fourth Thursday of the month from 2:00 - 3:00 pm.</span>\n<ul style="padding: 0px 40px\; color: rgb(51\, 51\, 51)\; font-family: sans-serif\, Arial\, Verdana\, &quot\;Trebuchet MS&quot\;\; font-size: 13px\;">\n	<li>Thursday\, February 27 - Critical Do&#39\;s and Don&#39\;ts when Planning for Retirement</li>\n	<li>Thursday\, March 27 - Fraud Prevention - Protecting Your Seniors from Online and Phone Scams</li>\n</ul>\n
LOCATION:
UID:e.420.8343
SEQUENCE:3
DTSTAMP:20260421T104948Z
URL:https://business.redoakareachamber.org/events/details/protecting-our-seniors-educational-workshop-8343
END:VEVENT

END:VCALENDAR
