BEGIN:VCALENDAR
VERSION:2.0
PRODID:-//ChamberMaster//Event Calendar 2.0//EN
METHOD:PUBLISH
X-PUBLISHED-TTL:P3D
REFRESH-INTERVAL:P3D
CALSCALE:GREGORIAN
BEGIN:VEVENT
DTSTART:20251121T190000Z
DTEND:20251121T220000Z
X-MICROSOFT-CDO-ALLDAYEVENT:FALSE
SUMMARY:Operation Full Plate - WISD Students
DESCRIPTION:This Thanksgiving Break\, many area students will lose access to their free or reduced school meals. Project Full Plate is stepping in to make sure no student goes hungry while schools are closed. This is open to all local students.\n\n	300 families are guaranteed 5 meal kits each.\n	To receive food\, please bring proof of students in your household (i.e.\, report card\, student ID\, school pick up place cards\, etc.).\n	Line up will not begin until 12:00 pm on Friday\, November 21st\, 2025.\n\nCOMMUNITY FOOD DISTRIBUTION\n\n\n	Friday\, November 21st\, 2025 from 1:00 - 4:00 pm\n	Evelyn Coleman Building\, 1000 Hwy 77 N.\, Waxahachie\, TX 75165\n\nWANT TO VOLUNTEER? Join us as a volunteer and help make this possible! Scan the QR code to sign up for a volunteer shift!\n\n\n\nTOGETHER\, WE CAN FILL EVERY PLATE.
X-ALT-DESC;FMTTYPE=text/html:This Thanksgiving Break\, many area students will lose access to their free or reduced school meals. Project Full Plate is stepping in to make sure no student goes hungry while schools are closed. <strong><em>This is open to all local students.</em></strong>\n<ul>\n	<li><strong>300 families are guaranteed 5 meal kits each.</strong></li>\n	<li><strong>To receive food\, please bring proof of students in your household (i.e.\, report card\, student ID\, school pick up place cards\, etc.).</strong></li>\n	<li><strong>Line up will not begin until 12:00 pm on Friday\, November 21st\, 2025.</strong></li>\n</ul>\nCOMMUNITY FOOD DISTRIBUTION\n\n<ul>\n	<li>Friday\, November 21st\, 2025 from 1:00 - 4:00 pm</li>\n	<li>Evelyn Coleman Building\, 1000 Hwy 77 N.\, Waxahachie\, TX 75165</li>\n</ul>\n<strong><span style="color:#B22222\;">WANT TO VOLUNTEER?</span></strong> Join us as a volunteer and help make this possible! Scan the QR code to sign up for a volunteer shift!<br />\n<br />\n<span style="font-size:18px\;"><strong><span style="color:#008080\;">TOGETHER\, WE CAN</span> <span style="color:#B22222\;">FILL EVERY PLATE.</span></strong></span>
LOCATION:
UID:e.420.9641
SEQUENCE:3
DTSTAMP:20260419T153031Z
URL:https://business.redoakareachamber.org/events/details/operation-full-plate-wisd-students-9641
END:VEVENT

END:VCALENDAR
