BEGIN:VCALENDAR
VERSION:2.0
PRODID:-//ChamberMaster//Event Calendar 2.0//EN
METHOD:PUBLISH
X-PUBLISHED-TTL:P3D
REFRESH-INTERVAL:P3D
CALSCALE:GREGORIAN
BEGIN:VEVENT
DTSTART:20250215T150000Z
DTEND:20250215T230000Z
X-MICROSOFT-CDO-ALLDAYEVENT:FALSE
SUMMARY:MSF Dirt Bike School
DESCRIPTION:Embark on the thrill of dirt biking with our MSF Dirt Bike School Course\, a certified program from the Motorcycle Safety Foundation (MSF). Whether you're a novice rider or an enthusiast looking to enhance your skills\, our comprehensive course provides the knowledge and hands-on experience needed for a safe and exhilarating dirt biking adventure. Ages 13 and up.\n\n\n\nTo register visit:  https://www.esensellc.com/service-page/msf-dirt-bike-school-ages-13-and-up-1?category=e454f390-9618-4d06-833f-39b7d45a413c&referral=service_list_widget
X-ALT-DESC;FMTTYPE=text/html:<span style="color: rgb(29\, 29\, 29)\; font-family: avenir-lt-w01_35-light1475496\; font-size: 14px\; white-space-collapse: preserve-breaks\; background-color: rgb(255\, 255\, 255)\;">Embark on the thrill of dirt biking with our MSF Dirt Bike School Course\, a certified program from the Motorcycle Safety Foundation (MSF). Whether you&#39\;re a novice rider or an enthusiast looking to enhance your skills\, our comprehensive course provides the knowledge and hands-on experience needed for a safe and exhilarating dirt biking adventure. Ages 13 and up.</span><br />\n<br />\nTo register visit:&nbsp\;&nbsp\;https://www.esensellc.com/service-page/msf-dirt-bike-school-ages-13-and-up-1?category=e454f390-9618-4d06-833f-39b7d45a413c&amp\;referral=service_list_widget
LOCATION:
UID:e.420.8385
SEQUENCE:3
DTSTAMP:20260421T105212Z
URL:https://business.redoakareachamber.org/events/details/msf-dirt-bike-school-8385
END:VEVENT

END:VCALENDAR
