BEGIN:VCALENDAR
VERSION:2.0
PRODID:-//ChamberMaster//Event Calendar 2.0//EN
METHOD:PUBLISH
X-PUBLISHED-TTL:P3D
REFRESH-INTERVAL:P3D
CALSCALE:GREGORIAN
BEGIN:VEVENT
DTSTART:20251113T230000Z
DTEND:20251114T010000Z
X-MICROSOFT-CDO-ALLDAYEVENT:FALSE
SUMMARY:Methodist Charlton Medical Center 50 Golden Years of Service
DESCRIPTION:Join the Methodist Charlton Medical Center for a special community celebration honoring the hospital's rich history\, dedicated caregivers\, and the generations of families they've been privileged to serve. Enjoy this family-friendly gathering\, with health and wellness resources\, and a chance to meet the people behind the care that has made Methodist Charlton a trusted name for half a century. Come celebrate our legacy -- and the bright future ahead!\n\n\n\n*Register via the QR Code\n\n\n\nDate: Thursday\, November 13\, 2025\n\nTime: 5:00 pm - 7:00 pm\n\nLocation: Methodist Charlton Main Entrance\, 3500 W. Wheatland Road\, Dallas\, TX 75237
X-ALT-DESC;FMTTYPE=text/html:Join the Methodist Charlton Medical Center for a special community celebration honoring the hospital&#39\;s rich history\, dedicated caregivers\, and the generations of families they&#39\;ve been privileged to serve. Enjoy this family-friendly gathering\, with health and wellness resources\, and a chance to meet the people behind the care that has made Methodist Charlton a trusted name&nbsp\;for half a century. Come celebrate our legacy -- and the bright future ahead!<br />\n<br />\n*Register via the QR Code<br />\n<br />\nDate: Thursday\, November 13\, 2025<br />\nTime: 5:00 pm - 7:00 pm<br />\nLocation: Methodist Charlton Main Entrance\,&nbsp\;3500 W. Wheatland Road\, Dallas\, TX 75237\n<div>&nbsp\;</div>\n
LOCATION:
UID:e.420.9619
SEQUENCE:3
DTSTAMP:20260419T153443Z
URL:https://business.redoakareachamber.org/events/details/methodist-charlton-medical-center-50-golden-years-of-service-9619
END:VEVENT

END:VCALENDAR
