BEGIN:VCALENDAR
VERSION:2.0
PRODID:-//ChamberMaster//Event Calendar 2.0//EN
METHOD:PUBLISH
X-PUBLISHED-TTL:P3D
REFRESH-INTERVAL:P3D
CALSCALE:GREGORIAN
BEGIN:VEVENT
DTSTART:20250222T000000Z
DTEND:20250222T030000Z
X-MICROSOFT-CDO-ALLDAYEVENT:FALSE
SUMMARY:Mentors Care Purse Bingo
DESCRIPTION:Get ready to win designer purses\, enjoy great company\, and support a meaningful cause. Proceeds from this event directly benefit Mentors Care\, helping us provide life-changing mentorship to struggling high school students.\n\n  Location: Waxahachie Civic Center\n\n  Date: Friday\, February 21\, 2025\n\n  Time: Games start at 6pm\, doors open at 5:30pm\n\nGucci Raffle: You don't need to be present to win!\n\n\n	\n	$25 for 1 ticket\n	\n	\n	$100 for 5 tickets
X-ALT-DESC;FMTTYPE=text/html:<p style="margin: 1rem 0px\; line-height: var(--body-font-line-height)\; overflow-wrap: break-word\; font-family: Poppins\; font-size: 14px\; white-space-collapse: preserve\; background-color: rgb(255\, 255\, 255)\;">Get ready to win designer purses\, enjoy great company\, and support a meaningful cause. Proceeds from this event directly benefit Mentors Care\, helping us provide life-changing mentorship to struggling high school students.</p>\n\n<p style="margin: 1rem 0px\; line-height: var(--body-font-line-height)\; overflow-wrap: break-word\; font-family: Poppins\; font-size: 14px\; white-space-collapse: preserve\; background-color: rgb(255\, 255\, 255)\;">&#128205\; <span style="font-weight: 700\; overflow-wrap: break-word\;">Location:</span> Waxahachie Civic Center<br style="overflow-wrap: break-word\;" />\n&#128197\; <span style="font-weight: 700\; overflow-wrap: break-word\;">Date:</span> Friday\, February 21\, 2025<br style="overflow-wrap: break-word\;" />\n&#128342\; <span style="font-weight: 700\; overflow-wrap: break-word\;">Time:</span> Games start at 6pm\, doors open at 5:30pm</p>\n\n<p style="margin: 1rem 0px\; line-height: var(--body-font-line-height)\; overflow-wrap: break-word\; font-family: Poppins\; font-size: 14px\; white-space-collapse: preserve\; background-color: rgb(255\, 255\, 255)\;"><span style="font-weight: 700\; overflow-wrap: break-word\;">Gucci Raffle</span>: You don&rsquo\;t need to be present to win!</p>\n\n<ul data-rte-list="default" style="overflow-wrap: break-word\; font-family: Poppins\; font-size: 14px\; background-color: rgb(255\, 255\, 255)\;">\n	<li style="list-style-type: none\; overflow-wrap: break-word\;">\n	<p style="margin: 0.5em 0px\; line-height: var(--body-font-line-height)\; overflow-wrap: break-word\; white-space-collapse: preserve\;">$25 for 1 ticket</p>\n	</li>\n	<li style="list-style-type: none\; overflow-wrap: break-word\;">\n	<p style="margin: 0.5em 0px\; line-height: var(--body-font-line-height)\; overflow-wrap: break-word\; white-space-collapse: preserve\;">$100 for 5 tickets</p>\n	</li>\n</ul>\n
LOCATION:
UID:e.420.8022
SEQUENCE:3
DTSTAMP:20260421T092555Z
URL:https://business.redoakareachamber.org/events/details/mentors-care-purse-bingo-8022
END:VEVENT

END:VCALENDAR
