BEGIN:VCALENDAR
VERSION:2.0
PRODID:-//ChamberMaster//Event Calendar 2.0//EN
METHOD:PUBLISH
X-PUBLISHED-TTL:P3D
REFRESH-INTERVAL:P3D
CALSCALE:GREGORIAN
BEGIN:VEVENT
DTSTART:20250201T143000Z
DTEND:20250201T193000Z
X-MICROSOFT-CDO-ALLDAYEVENT:FALSE
SUMMARY:Job & Resource Fair - Workforce Possibilities
DESCRIPTION:Workforce Solutions North Central Texas presents a Job and Resource Fair\, Workforce Possibilities.\n\n\n\n  Join us on February 1st from 8:30 am - 1:30 pm\n\n  My Possibilities\, 3601 Mapleshade Lane\, Plano\, TX\n\n   Pre-register today: https://dfwjobs.jotform.com/250064584967871\n\n\n\nWe are proud to partner with My Possibilities to hold this upcoming event. Join us to explore local resources in engaging sessions and connect with employers ready to hire at our job fair.
X-ALT-DESC;FMTTYPE=text/html:Workforce Solutions North Central Texas presents a Job and Resource Fair\, Workforce Possibilities.<br />\n<br />\n&#128197\; Join us on February 1st from 8:30 am - 1:30 pm<br />\n&#128205\; My Possibilities\, 3601 Mapleshade Lane\, Plano\, TX<br />\n&#128421\;&#65039\; Pre-register today:&nbsp\;https://dfwjobs.jotform.com/250064584967871<br />\n<br />\nWe are proud to partner with My Possibilities to hold this upcoming event. Join us to explore local resources in engaging sessions and connect with employers ready to hire at our job fair.<br />\n&nbsp\;
LOCATION:
UID:e.420.8347
SEQUENCE:3
DTSTAMP:20260421T105043Z
URL:https://business.redoakareachamber.org/events/details/job-resource-fair-workforce-possibilities-8347
END:VEVENT

END:VCALENDAR
