BEGIN:VCALENDAR
VERSION:2.0
PRODID:-//ChamberMaster//Event Calendar 2.0//EN
METHOD:PUBLISH
X-PUBLISHED-TTL:P3D
REFRESH-INTERVAL:P3D
CALSCALE:GREGORIAN
BEGIN:VEVENT
DTSTART:20251112T160000Z
DTEND:20251112T200000Z
X-MICROSOFT-CDO-ALLDAYEVENT:FALSE
SUMMARY:Hiring Red\, White & YOU Career Fair
DESCRIPTION:Hiring Red\, White & You! is a statewide hiring event that connects talented job seekers to employers across Texas. Workforce Solutions for North Central Texas is pleased to sponsor two events in North Central Texas\, in partnership with the Texas Workforce Commission and Texas Veterans Commission. Use this form to register in advance. Space is limited so priority will be given to those who pre-register!\n \n\nPlease note: During the first note hour of both events\, priority will be given to veterans and transitioning military members. \n\n\n\nTo register visit:  https://www.dfwjobs.com/hiring-red-white-and-you
X-ALT-DESC;FMTTYPE=text/html:<span style="color: rgb(44\, 51\, 69)\; font-family: Inter\, sans-serif\; font-size: 15px\; background-color: rgb(241\, 245\, 255)\;">Hiring Red\, White &amp\; You! is a statewide hiring event that connects talented job seekers to employers across Texas. Workforce Solutions for North Central Texas is pleased to sponsor two events in North Central Texas\, in partnership with the Texas Workforce Commission and Texas Veterans Commission. Use this form to register in advance. Space is limited so priority will be given to those who pre-register!</span>\n<div>&nbsp\;</div>\n\n<div><strong style="box-sizing: border-box\; color: rgb(44\, 51\, 69)\; font-family: Inter\, sans-serif\; font-size: 15px\; background-color: rgb(241\, 245\, 255)\;">Please note:</strong><span style="color: rgb(44\, 51\, 69)\; font-family: Inter\, sans-serif\; font-size: 15px\; background-color: rgb(241\, 245\, 255)\;">&nbsp\;During the first note hour of both events\, priority will be given to veterans and transitioning military members.&nbsp\;</span><br />\n<br />\nTo register visit:&nbsp\;&nbsp\;https://www.dfwjobs.com/hiring-red-white-and-you</div>\n
LOCATION:
UID:e.420.9538
SEQUENCE:3
DTSTAMP:20260419T153121Z
URL:https://business.redoakareachamber.org/events/details/hiring-red-white-you-career-fair-9538
END:VEVENT

END:VCALENDAR
