BEGIN:VCALENDAR
VERSION:2.0
PRODID:-//ChamberMaster//Event Calendar 2.0//EN
METHOD:PUBLISH
X-PUBLISHED-TTL:P3D
REFRESH-INTERVAL:P3D
CALSCALE:GREGORIAN
BEGIN:VEVENT
DTSTART:20250228T150000Z
DTEND:20250228T170000Z
X-MICROSOFT-CDO-ALLDAYEVENT:FALSE
SUMMARY:Friday Chamber Adventure
DESCRIPTION:Community National Bank & Trust and Travelin' Tom's Coffee of Bishop Arts\, will host a Red Oak Area Chamber of Commerce "Friday Chamber Adventure" on Friday\, February 28th from 9:00 am - 11:00 am. Come\, network\, and enjoy coffee at Community National Bank & Trust conveniently located at 102 Ranch Road in Red Oak\, Texas. All are invited!
X-ALT-DESC;FMTTYPE=text/html:Community National Bank &amp\; Trust and Travelin&#39\; Tom&#39\;s Coffee of Bishop Arts\, will host a Red Oak Area Chamber of Commerce &quot\;Friday Chamber Adventure&quot\; on Friday\, February 28th from 9:00 am - 11:00 am. Come\, network\, and enjoy coffee at Community National Bank &amp\; Trust conveniently located at 102 Ranch Road in Red Oak\, Texas. All are invited!<br />\n&nbsp\;
LOCATION:
UID:e.420.8371
SEQUENCE:3
DTSTAMP:20260421T104949Z
URL:https://business.redoakareachamber.org/events/details/friday-chamber-adventure-8371
END:VEVENT

END:VCALENDAR
