BEGIN:VCALENDAR
VERSION:2.0
PRODID:-//ChamberMaster//Event Calendar 2.0//EN
METHOD:PUBLISH
X-PUBLISHED-TTL:P3D
REFRESH-INTERVAL:P3D
CALSCALE:GREGORIAN
BEGIN:VEVENT
DTSTART:20251111T120000Z
DTEND:20251112T020000Z
X-MICROSOFT-CDO-ALLDAYEVENT:FALSE
SUMMARY:Free Meal for Veterans
DESCRIPTION:Cancuns Red Oak and Acapulco's DeSoto would like to treat our Veterans to a Free Meal at either of our 2 locations!\n\n	Tuesday\, November 11\, 2025 - 6:00 am - 8:00 pm\n	Please provide the cashier an ID\n	Offered to VETERANS ONLY\n	May not be combined with other offers or coupons\n	VALUE OF MEAL NOT TO EXCEED $12.00
X-ALT-DESC;FMTTYPE=text/html:Cancuns Red Oak and Acapulco&#39\;s DeSoto would like to treat our Veterans to a Free Meal at either of our 2 locations!\n<ul>\n	<li>Tuesday\, November 11\, 2025 - 6:00 am - 8:00 pm</li>\n	<li>Please provide the cashier an ID</li>\n	<li>Offered to VETERANS ONLY</li>\n	<li>May not be combined with other offers or coupons</li>\n	<li>VALUE OF MEAL NOT TO EXCEED $12.00</li>\n</ul>\n
LOCATION:
UID:e.420.9618
SEQUENCE:3
DTSTAMP:20260419T153001Z
URL:https://business.redoakareachamber.org/events/details/free-meal-for-veterans-9618
END:VEVENT

END:VCALENDAR
