BEGIN:VCALENDAR
VERSION:2.0
PRODID:-//ChamberMaster//Event Calendar 2.0//EN
METHOD:PUBLISH
X-PUBLISHED-TTL:P3D
REFRESH-INTERVAL:P3D
CALSCALE:GREGORIAN
BEGIN:VEVENT
DTSTART:20251114T230000Z
DTEND:20251115T030000Z
X-MICROSOFT-CDO-ALLDAYEVENT:FALSE
SUMMARY:Festival of Trees Silent Auction - Habitat for Humanity
DESCRIPTION:Habitat for Humanity of Ellis County cordially invites you to attend a Festival of Trees Silent Auction. This event benefits Habitat for Humanity of Ellis County Texas.\n\n\n\nEnjoy live music\, desserts\, and holiday cheer while you bid on beautiful holiday creations!\n\n\n\nChildren's activities are on Saturday:  Crafts\, games\, stories and Santa pictures!\n\n\n\nFriday\, November 14th from 5:00 - 9:00 PM\n\nSaturday\, November 15th from 9:00 AM - 3:00 PM\n\n\n\nFirst United Methodist Church\n\n505 West Marvin\n\nWaxahachie\, TX 75165
X-ALT-DESC;FMTTYPE=text/html:Habitat for Humanity of Ellis County cordially invites you to attend a <strong><span style="font-family:comic sans ms\;">Festival of Trees Silent Auction</span></strong>. This event benefits Habitat for Humanity of Ellis County Texas.<br />\n<br />\nEnjoy live music\, desserts\, and holiday cheer while you bid on beautiful holiday creations!<br />\n<br />\nChildren&#39\;s activities are on Saturday:&nbsp\; Crafts\, games\, stories and Santa pictures!<br />\n<br />\nFriday\, November 14th from 5:00 - 9:00 PM<br />\nSaturday\, November 15th from 9:00 AM - 3:00 PM<br />\n<br />\nFirst United Methodist Church<br />\n505 West Marvin<br />\nWaxahachie\, TX 75165<br />\n&nbsp\;
LOCATION:
UID:e.420.9541
SEQUENCE:3
DTSTAMP:20260419T153256Z
URL:https://business.redoakareachamber.org/events/details/festival-of-trees-silent-auction-habitat-for-humanity-9541
END:VEVENT

END:VCALENDAR
