BEGIN:VCALENDAR
VERSION:2.0
PRODID:-//ChamberMaster//Event Calendar 2.0//EN
METHOD:PUBLISH
X-PUBLISHED-TTL:P3D
REFRESH-INTERVAL:P3D
CALSCALE:GREGORIAN
BEGIN:VEVENT
DTSTART:20250213T230000Z
DTEND:20250214T020000Z
X-MICROSOFT-CDO-ALLDAYEVENT:FALSE
SUMMARY:Daddy - Daughter Date Night at Chick-fil-A of Red Oak
DESCRIPTION:Chick-fil-A of Red Oak's Daddy-Daughter Date Night 2025 is now ready for sign-ups!  \n\nDon't miss out on making these special memories with your loved ones!   \n\n\n\nChoose from the following time slots:\n\n5:00 - 6:00 pm\n\n6:00 - 7:00 pm\n\n7:00 - 8:00 pm\n\n\n\nClick the link below to reserve your spot!\n\nhttps://www.eventbrite.com/e/1227056692599?aff=oddtdtcreator
X-ALT-DESC;FMTTYPE=text/html:Chick-fil-A of Red Oak&#39\;s Daddy-Daughter Date Night 2025 is now ready for sign-ups! &#128149\;<br />\nDon&rsquo\;t miss out on making these special memories with your loved ones! &#10084\;&#65039\;<br />\n<br />\nChoose from the following time slots:<br />\n5:00 - 6:00 pm<br />\n6:00 - 7:00 pm<br />\n7:00 - 8:00 pm<br />\n<br />\nClick the link below to reserve your spot!<br />\nhttps://www.eventbrite.com/e/1227056692599?aff=oddtdtcreator
LOCATION:
UID:e.420.8404
SEQUENCE:3
DTSTAMP:20260421T123331Z
URL:https://business.redoakareachamber.org/events/details/daddy-daughter-date-night-at-chick-fil-a-of-red-oak-8404
END:VEVENT

END:VCALENDAR
