BEGIN:VCALENDAR
VERSION:2.0
PRODID:-//ChamberMaster//Event Calendar 2.0//EN
METHOD:PUBLISH
X-PUBLISHED-TTL:P3D
REFRESH-INTERVAL:P3D
CALSCALE:GREGORIAN
BEGIN:VEVENT
DTSTART:20250211T133000Z
DTEND:20250211T150000Z
X-MICROSOFT-CDO-ALLDAYEVENT:FALSE
SUMMARY:Business Breakfast
DESCRIPTION:A great way to meet\, greet\, and network with fellow Red Oak and North Ellis County business owners.
X-ALT-DESC;FMTTYPE=text/html:<span style="font-size:18px\;">A great way to meet\, greet\, and network with fellow Red Oak and North Ellis County business owners.</span>
LOCATION:Gravy and More\, 204 S. Main Street #19-05\, Red Oak\, TX 75154
UID:e.420.4622
SEQUENCE:3
DTSTAMP:20260421T111716Z
URL:https://business.redoakareachamber.org/events/details/business-breakfast-02-11-2025-4622
END:VEVENT

END:VCALENDAR
