BEGIN:VCALENDAR
VERSION:2.0
PRODID:-//ChamberMaster//Event Calendar 2.0//EN
METHOD:PUBLISH
X-PUBLISHED-TTL:P3D
REFRESH-INTERVAL:P3D
CALSCALE:GREGORIAN
BEGIN:VEVENT
DTSTART:20220627T180000Z
DTEND:20220701T210000Z
X-MICROSOFT-CDO-ALLDAYEVENT:FALSE
SUMMARY:Bricks 4 Kidz Camp
DESCRIPTION:Movie Mashup\n\n    It's fun and educational!
X-ALT-DESC;FMTTYPE=text/html:<span style="font-size:24px\;">Movie Mashup</span><br />\n<span style="font-size:20px\;">&nbsp\; &nbsp\; It&#39\;s fun and educational!</span>
LOCATION:St. Thomas Episcopal Church 901 Park St. Ennis\, Tx 75119
UID:e.420.4812
SEQUENCE:3
DTSTAMP:20260425T232522Z
URL:https://business.redoakareachamber.org/events/details/bricks-4-kidz-camp-4812
END:VEVENT

END:VCALENDAR
