BEGIN:VCALENDAR
VERSION:2.0
PRODID:-//ChamberMaster//Event Calendar 2.0//EN
METHOD:PUBLISH
X-PUBLISHED-TTL:P3D
REFRESH-INTERVAL:P3D
CALSCALE:GREGORIAN
BEGIN:VEVENT
DTSTART:20250208T153000Z
DTEND:20250208T170000Z
X-MICROSOFT-CDO-ALLDAYEVENT:FALSE
SUMMARY:Breakfast of Champions for All Pro Dads
DESCRIPTION:DeSoto ISD Fathers\, join us for the All-Pro Dads Appreciation Breakfast. Come connect with others and celebrate fatherhood. Register with the QR code (see flyer) or email    kendal.harden@desotoisd.org for more information.
X-ALT-DESC;FMTTYPE=text/html:<span style="color: rgb(8\, 8\, 9)\; font-family: &quot\;Segoe UI Historic&quot\;\, &quot\;Segoe UI&quot\;\, Helvetica\, Arial\, sans-serif\; font-size: 15px\; white-space-collapse: preserve\; background-color: rgb(255\, 255\, 255)\;">DeSoto ISD Fathers\, join us for the All-Pro Dads Appreciation Breakfast. Come connect with others and celebrate fatherhood. Register with the QR code (see flyer) or email &#10145\;&#65039\; </span><strong><span style="color:#0000FF\;"><span style="font-family: &quot\;Segoe UI Historic&quot\;\, &quot\;Segoe UI&quot\;\, Helvetica\, Arial\, sans-serif\; font-size: 15px\; white-space-collapse: preserve\; background-color: rgb(255\, 255\, 255)\;">kendal.harden@desotoisd.org</span></span></strong><span style="color: rgb(8\, 8\, 9)\; font-family: &quot\;Segoe UI Historic&quot\;\, &quot\;Segoe UI&quot\;\, Helvetica\, Arial\, sans-serif\; font-size: 15px\; white-space-collapse: preserve\; background-color: rgb(255\, 255\, 255)\;"> for more information.</span>
LOCATION:
UID:e.420.8388
SEQUENCE:3
DTSTAMP:20260421T105305Z
URL:https://business.redoakareachamber.org/events/details/breakfast-of-champions-for-all-pro-dads-8388
END:VEVENT

END:VCALENDAR
