BEGIN:VCALENDAR
VERSION:2.0
PRODID:-//ChamberMaster//Event Calendar 2.0//EN
METHOD:PUBLISH
X-PUBLISHED-TTL:P3D
REFRESH-INTERVAL:P3D
CALSCALE:GREGORIAN
BEGIN:VEVENT
DTSTART;VALUE=DATE:20250511
DTEND;VALUE=DATE:20250512
TRANSP:TRANSPARENT
X-MICROSOFT-CDO-ALLDAYEVENT:TRUE
SUMMARY:2025 All Ellis County High School Sports Gala
DESCRIPTION:Become a Gala Sponsor for the 2025 All Ellis County High School Sports Gala. Join us in recognizing the achievements of Ellis County's brightest student-athletes\, while giving back to the community that raised them.\n\n\n\nTo be a sponsor\, contact:  Nathaniel@waxahachiesun.com
X-ALT-DESC;FMTTYPE=text/html:Become a Gala Sponsor for the 2025 All Ellis County High School Sports Gala. Join us in recognizing the achievements of Ellis County&#39\;s brightest student-athletes\, while giving back to the community that raised them.<br />\n<br />\n<strong>To be a sponsor\, contact:</strong>&nbsp\; <strong><span style="color:#0000FF\;">Nathaniel@waxahachiesun.com</span></strong><br />\n&nbsp\;
LOCATION:
UID:e.420.9088
SEQUENCE:3
DTSTAMP:20260424T182223Z
URL:https://business.redoakareachamber.org/events/details/2025-all-ellis-county-high-school-sports-gala-9088
END:VEVENT

END:VCALENDAR
